BEGIN:VCALENDAR
VERSION:2.0
PRODID:-//Swing Philosophy - ECPv6.15.17.1//NONSGML v1.0//EN
CALSCALE:GREGORIAN
METHOD:PUBLISH
X-WR-CALNAME:Swing Philosophy
X-ORIGINAL-URL:https://swingphilosophy.com
X-WR-CALDESC:Events for Swing Philosophy
REFRESH-INTERVAL;VALUE=DURATION:PT1H
X-Robots-Tag:noindex
X-PUBLISHED-TTL:PT1H
BEGIN:VTIMEZONE
TZID:Europe/Amsterdam
BEGIN:DAYLIGHT
TZOFFSETFROM:+0100
TZOFFSETTO:+0200
TZNAME:CEST
DTSTART:20250330T010000
END:DAYLIGHT
BEGIN:STANDARD
TZOFFSETFROM:+0200
TZOFFSETTO:+0100
TZNAME:CET
DTSTART:20251026T010000
END:STANDARD
BEGIN:DAYLIGHT
TZOFFSETFROM:+0100
TZOFFSETTO:+0200
TZNAME:CEST
DTSTART:20260329T010000
END:DAYLIGHT
BEGIN:STANDARD
TZOFFSETFROM:+0200
TZOFFSETTO:+0100
TZNAME:CET
DTSTART:20261025T010000
END:STANDARD
BEGIN:DAYLIGHT
TZOFFSETFROM:+0100
TZOFFSETTO:+0200
TZNAME:CEST
DTSTART:20270328T010000
END:DAYLIGHT
BEGIN:STANDARD
TZOFFSETFROM:+0200
TZOFFSETTO:+0100
TZNAME:CET
DTSTART:20271031T010000
END:STANDARD
END:VTIMEZONE
BEGIN:VEVENT
DTSTART;TZID=Europe/Amsterdam:20260424T203000
DTEND;TZID=Europe/Amsterdam:20260424T233000
DTSTAMP:20260424T045822
CREATED:20260327T165035Z
LAST-MODIFIED:20260327T165040Z
UID:10001634-1777062600-1777073400@swingphilosophy.com
SUMMARY:Blues Burner w/ Gumbo & The Monk
DESCRIPTION:TICKETS\n\n\n\n\nBLUES BURNER w/ Gumbo & The Monk!HOT Blues that will make you move through the night\, with a good drink in your hand. \n\n\n\nBlues music and blues dance come from a rich Afro-American History\, it was always a way to forget your sorrows and feel alive. BURN your blues away with the best blues music and dancing in one of the finest blues LIVE Music venues in Amsterdam!! \n\n\n\nWHEN: Friday\, 24. April\, 20.30 – 23.30hWHERE: KNSM-Laan 311\, AmsterdamCOST: Donations based\, we advise EUR 19\,50 (includes 1 non alc. drink) for the live music.DONATION: https://jazzeventsamsterdam.com/live-music-tickets/
URL:https://swingphilosophy.com/agenda/blues-burner-w-gumbo-the-monk/
LOCATION:KZ – Kompaszaal\, KNSM-Laan 311\, Amsterdam\, 1019 LE\, Netherlands
ATTACH;FMTTYPE=image/jpeg:https://swingphilosophy.com/wp-content/uploads/2026/03/bb-Lightnin-Bug-1-1-1.jpg
END:VEVENT
END:VCALENDAR