BEGIN:VCALENDAR
VERSION:2.0
PRODID:-//Swing Philosophy - ECPv6.15.17.1//NONSGML v1.0//EN
CALSCALE:GREGORIAN
METHOD:PUBLISH
X-WR-CALNAME:Swing Philosophy
X-ORIGINAL-URL:https://swingphilosophy.com
X-WR-CALDESC:Events for Swing Philosophy
REFRESH-INTERVAL;VALUE=DURATION:PT1H
X-Robots-Tag:noindex
X-PUBLISHED-TTL:PT1H
BEGIN:VTIMEZONE
TZID:Europe/Amsterdam
BEGIN:DAYLIGHT
TZOFFSETFROM:+0100
TZOFFSETTO:+0200
TZNAME:CEST
DTSTART:20240331T010000
END:DAYLIGHT
BEGIN:STANDARD
TZOFFSETFROM:+0200
TZOFFSETTO:+0100
TZNAME:CET
DTSTART:20241027T010000
END:STANDARD
BEGIN:DAYLIGHT
TZOFFSETFROM:+0100
TZOFFSETTO:+0200
TZNAME:CEST
DTSTART:20250330T010000
END:DAYLIGHT
BEGIN:STANDARD
TZOFFSETFROM:+0200
TZOFFSETTO:+0100
TZNAME:CET
DTSTART:20251026T010000
END:STANDARD
BEGIN:DAYLIGHT
TZOFFSETFROM:+0100
TZOFFSETTO:+0200
TZNAME:CEST
DTSTART:20260329T010000
END:DAYLIGHT
BEGIN:STANDARD
TZOFFSETFROM:+0200
TZOFFSETTO:+0100
TZNAME:CET
DTSTART:20261025T010000
END:STANDARD
END:VTIMEZONE
BEGIN:VEVENT
DTSTART;TZID=Europe/Amsterdam:20250613T210000
DTEND;TZID=Europe/Amsterdam:20250613T235900
DTSTAMP:20260424T101429
CREATED:20250417T153014Z
LAST-MODIFIED:20250425T170548Z
UID:10001475-1749848400-1749859140@swingphilosophy.com
SUMMARY:FRIDAY RHYTHM HIVE - celebrating Susanne & Kenneth!
DESCRIPTION:Sweet like honey\, let’s missbeehive!This time we have a special edition. We are celebrating two times 60 of Susanne & Kenneth – turning together 120!Celebrate with us and dance your feet off until they sting with the live band THE MAESTRO’S.Come buzz with us and let’s wish them a Happy Birthday! \n\n\n\nProgram:21.00 Party start with Live Music of The MAESTRO’S!! \n\n\n\nWhere: KZ (KNSM-Laan 311) \n\n\n\nFor more info & questions:www.vintagejazzevents.cominfo.vintagejazzevents@gmail.com+31619287426 or swingphilosophy@gmail.com
URL:https://swingphilosophy.com/agenda/friday-rhythm-hive-celebrating-susanne-kenneth/
LOCATION:KZ – Kompaszaal\, KNSM-Laan 311\, Amsterdam\, 1019 LE\, Netherlands
CATEGORIES:Party
ATTACH;FMTTYPE=image/png:https://swingphilosophy.com/wp-content/uploads/2025/04/FRH-band-2-1.png
END:VEVENT
BEGIN:VEVENT
DTSTART;TZID=Europe/Amsterdam:20250615T150000
DTEND;TZID=Europe/Amsterdam:20250615T190000
DTSTAMP:20260424T101429
CREATED:20250430T141925Z
LAST-MODIFIED:20250521T142859Z
UID:10001501-1749999600-1750014000@swingphilosophy.com
SUMMARY:OOSTERPARK HOP - Outdoor Dance
DESCRIPTION:Summer is here and we are dancing and parting at the Oosterpark. Want to join our Classes outdoor\, enjoy good music and share a dance with us\, than this is exactly where you have to be. \n\n\n\nProgramm: 15.30- 16.30H: Outdoor MAMA STEW Workshop – klick here  \n\n\n\n15.00- 19.00H Partytime \n\n\n\nWhere: Oosterpark\, at the Gazebo – in case of rain\, we will move the Party to Kompaszaal.  \n\n\n\nCost: we appreciate donations for the effort we put in organising this like permits with municipality\, bringing boomboxes\, DJing and promoting \n\n\n\nTell your friends and bring a picnic blanket\, food\, water and sunscreen! \n\n\n\nFor questions contact us at +31653577930 or swingphilosophy@gmail.com
URL:https://swingphilosophy.com/agenda/oosterpark-hop-outdoor-dance-3/
ATTACH;FMTTYPE=image/png:https://swingphilosophy.com/wp-content/uploads/2025/04/Oosterpark-Hop-1-1.png
END:VEVENT
BEGIN:VEVENT
DTSTART;TZID=Europe/Amsterdam:20250615T153000
DTEND;TZID=Europe/Amsterdam:20250615T163000
DTSTAMP:20260424T101430
CREATED:20250521T113644Z
LAST-MODIFIED:20250521T140429Z
UID:10001513-1750001400-1750005000@swingphilosophy.com
SUMMARY:Outdoor MAMA STEW Workshop - Party afterwards
DESCRIPTION:ONE of the COOLEST routines ever is the Mama Stew!The Mama Stew routine comes from the early days of swing where it was used by Whitey’s lindy hoppers as a warm up. As a former hostess of the famous Savoy Ball room\, Louise – Mama Lu – Parks was instrumental in keeping lindy hop alive after the closure of the Savoy. She kept the Harvest Moon Ball going and performed lindy for decades to come. Further Info klick here! \n\n\n\nWe PARTY after EVENT: klick here! \n\n\n\nWHEN: 15 June\, 15.30 – 16.30WHERE: OOSTERPARK (in the Gazebo)Donation suggestion: 15 EUR or what you can miss \n\n\n\nCheck this vid for the routine\, BUT don’t worry we will take it easier with the paste and only push it if we feel like it: \n\n\n\n\n\n\n\n\n\nFor questions contact us at +31619287426 or SwingPhilosophy@gmail.com
URL:https://swingphilosophy.com/agenda/outdoor-mama-stew-workshop-party-afterwards/
ATTACH;FMTTYPE=image/png:https://swingphilosophy.com/wp-content/uploads/2025/05/Outdoor-Mama-Stew-1.png
END:VEVENT
END:VCALENDAR