BEGIN:VCALENDAR
VERSION:2.0
PRODID:-//Swing Philosophy - ECPv6.15.17.1//NONSGML v1.0//EN
CALSCALE:GREGORIAN
METHOD:PUBLISH
X-WR-CALNAME:Swing Philosophy
X-ORIGINAL-URL:https://swingphilosophy.com
X-WR-CALDESC:Events for Swing Philosophy
REFRESH-INTERVAL;VALUE=DURATION:PT1H
X-Robots-Tag:noindex
X-PUBLISHED-TTL:PT1H
BEGIN:VTIMEZONE
TZID:Europe/Amsterdam
BEGIN:DAYLIGHT
TZOFFSETFROM:+0100
TZOFFSETTO:+0200
TZNAME:CEST
DTSTART:20240331T010000
END:DAYLIGHT
BEGIN:STANDARD
TZOFFSETFROM:+0200
TZOFFSETTO:+0100
TZNAME:CET
DTSTART:20241027T010000
END:STANDARD
BEGIN:DAYLIGHT
TZOFFSETFROM:+0100
TZOFFSETTO:+0200
TZNAME:CEST
DTSTART:20250330T010000
END:DAYLIGHT
BEGIN:STANDARD
TZOFFSETFROM:+0200
TZOFFSETTO:+0100
TZNAME:CET
DTSTART:20251026T010000
END:STANDARD
BEGIN:DAYLIGHT
TZOFFSETFROM:+0100
TZOFFSETTO:+0200
TZNAME:CEST
DTSTART:20260329T010000
END:DAYLIGHT
BEGIN:STANDARD
TZOFFSETFROM:+0200
TZOFFSETTO:+0100
TZNAME:CET
DTSTART:20261025T010000
END:STANDARD
END:VTIMEZONE
BEGIN:VEVENT
DTSTART;TZID=Europe/Amsterdam:20250904T210000
DTEND;TZID=Europe/Amsterdam:20250904T223000
DTSTAMP:20260421T120001
CREATED:20250723T101927Z
LAST-MODIFIED:20250723T101932Z
UID:10001536-1757019600-1757025000@swingphilosophy.com
SUMMARY:Guided Practice - SP Club North
DESCRIPTION:Want to practice what you’ve learned but feel sometimes overwhelmed or stuck? We can help with that! Every Thursday we offer a Guided Practice session — you can practice at your own pace\, and whenever you’d like feedback or tips\, we’re there for you. Come dance\, connect\, and grow in an open and welcoming space!  \n\n\n\nWhen: Thursdays\, 21:00–22:30Dates:July 17\, 24\, 31August 7\, 28September 4 \n\n\n\n Where:SP Club NORTHPapaverweg 29G\, Amsterdam \n\n\n\nFREE entrance! \n\n\n\nFor any questions\, feel free to call or WhatsApp us at +31 6 53577930 or email swingphilosophy@gmail.com.
URL:https://swingphilosophy.com/agenda/guided-practice-sp-club-north-5/
ATTACH;FMTTYPE=image/png:https://swingphilosophy.com/wp-content/uploads/2025/07/FB-Guided-Practice-SP-Club-2-1.png
END:VEVENT
BEGIN:VEVENT
DTSTART;TZID=Europe/Amsterdam:20250905T210000
DTEND;TZID=Europe/Amsterdam:20250905T235900
DTSTAMP:20260421T120001
CREATED:20250723T100212Z
LAST-MODIFIED:20250723T100217Z
UID:10001531-1757106000-1757116740@swingphilosophy.com
SUMMARY:KZ Opening LIVE Music Season
DESCRIPTION:DONATIONS\n\n\n\n\nDid you miss our LIVE MUSIC FRIDAY NIGHTS? \n\n\n\nWe have good news — we are back! This year’s season will be opened by our beloved De Jong Inc!We can’t wait to dance & enjoy the NICEST MUSIC again with YOU! \n\n\n\nWHEN: 5 September\, 21.00- 24.00HWHERE: KZ – KNSM-Laan 311\, AmsterdamTICKETS: Pay what you can (suggested donation for live music 15€) \n\n\n\nFor any questions call\, WhatsApp +31 6 53577930 or email info.vintagejazzevents@gmail.com us
URL:https://swingphilosophy.com/agenda/kz-opening-live-music-season/
LOCATION:KZ – Kompaszaal\, KNSM-Laan 311\, Amsterdam\, 1019 LE\, Netherlands
ATTACH;FMTTYPE=image/png:https://swingphilosophy.com/wp-content/uploads/2025/07/KZ-Opening-LIVE-MUSIC-SEASON-Jetse-de-jong-2-1.png
END:VEVENT
BEGIN:VEVENT
DTSTART;TZID=Europe/Amsterdam:20250906T113000
DTEND;TZID=Europe/Amsterdam:20250906T170000
DTSTAMP:20260421T120001
CREATED:20250731T144754Z
LAST-MODIFIED:20250731T144953Z
UID:10001539-1757158200-1757178000@swingphilosophy.com
SUMMARY:Explorer Day KZ - FREE Taster
DESCRIPTION:REGISTRATION\n\n\n\n\nWant to explore which dance form fits you the best within the Swing & Jazz dances? \n\n\n\nWe are offering TWO FREE EXPLORER DAYS at our two different locations\, where you can taste SIX Swing & Jazz Dance Styles:Blues\, Shag\, Tap\, Lindy Hop\, Solo Jazz & Balboa!  \n\n\n\nOn Monday 26th of August at SWING PHILOSOPHY CLUB NORTH (Papaverweg 29G) — tap here for further infos. \n\n\n\nOn Saturday 6th September at KOMPASZAAL. \n\n\n\nEach 40-minutes class gives you a taste of the foundation\, feeling & music of the dance form — on which you can decide what suits you the best! No experience & no partner needed — just bring your curiosity! \n\n\n\nPROGRAMM: 6 SEPTEMBER (KOMPASZAAL)11.30 – 14.00 LUNCH (please reserve your spot\, the view is stunning)12.00 – 12.40 Blues Beg12.50 – 13.30 Shag Beg13.40 – 14.20 Tap Beg14.30 – 15.10 Lindy Hop Beg15.20 – 16.00 Solo Jazz Beg16.10 – 16.50 Balboa Beg \n\n\n\nWHEN: 6 September\, 11.30- 17.00HWHERE: Kompaszaal\, KNSM-Laan 311\, AmsterdamFREE ENTRANCE! REGISTER HERE. \n\n\n\nNext block of classes starts right after the explorer day: schedule here. \n\n\n\nSwing Dance is all about making friends\, silliness and history. An Afro-American dance that will enrich your life and a music culture that will make you feel alive! We love our silly and knowledgeable team and they love to dance with old & new friends! \n\n\n\nNew to Swing?Check this out:  \n\n\n\n\n\n\n\n\n\n\n\n\n\n\n\n\n\nFood & Drinks:The venue offers great food\, so please support the venue and buy lunch and drinks. We have a delicious soup\, toastie\, coffees & smoothies!  \n\n\n\nFor any questions\, feel free to call or WhatsApp us at +31 6 53577930 or email swingphilosophy@gmail.com
URL:https://swingphilosophy.com/agenda/explorer-day-kz-free-taster/
LOCATION:KZ – Kompaszaal\, KNSM-Laan 311\, Amsterdam\, 1019 LE\, Netherlands
ATTACH;FMTTYPE=image/png:https://swingphilosophy.com/wp-content/uploads/2025/07/Explorer-Day-6-September-1.png
END:VEVENT
BEGIN:VEVENT
DTSTART;TZID=Europe/Amsterdam:20250907T150000
DTEND;TZID=Europe/Amsterdam:20250907T163000
DTSTAMP:20260421T120001
CREATED:20250807T130120Z
LAST-MODIFIED:20250807T133815Z
UID:10001541-1757257200-1757262600@swingphilosophy.com
SUMMARY:Outdoor Tandem CHARLESTON Workshop - Party afterwards
DESCRIPTION:TICKETS\n\n\n\n\nAre you ready to learn some technique and tandem variations of Charleston? \n\n\n\nIn this Outdoor Workshop we will focus half an hour on the precious technique of Charleston after that we dig into tandem variations to expand our Charleston dancing! \n\n\n\nPlease note: You should already be familiar with the basic 8 count step of Charleston to get the most out of this session. \n\n\n\nWe PARTY with LIVE MUSIC by Spirit of St Louis after WORKSHOP: klick here! \n\n\n\nWHEN: 7 September\, 15.00 – 16.30HWHERE: OOSTERPARK (in the Gazebo)Donation suggestion: 15 EUR or what you can miss \n\n\n\nFor any questions\, feel free to call or WhatsApp us at +31 6 53577930 or email swingphilosophy@gmail.com
URL:https://swingphilosophy.com/agenda/outdoor-charleston-workshop-party-afterwards/
ATTACH;FMTTYPE=image/png:https://swingphilosophy.com/wp-content/uploads/2025/08/Outdoor-Charleston-2-1.png
END:VEVENT
BEGIN:VEVENT
DTSTART;TZID=Europe/Amsterdam:20250907T160000
DTEND;TZID=Europe/Amsterdam:20250907T190000
DTSTAMP:20260421T120001
CREATED:20250711T091610Z
LAST-MODIFIED:20250814T092119Z
UID:10001529-1757260800-1757271600@swingphilosophy.com
SUMMARY:OOSTERPARK HOP w/ LIVE Music by Spirit of St Louis – Outdoor Dance
DESCRIPTION:DONATION\n\n\n\n\nSummer is here and we are dancing and parting at the Oosterpark. Want to join our Classes outdoor\, enjoy good music and share a dance with us\, than this is exactly where you have to be. We have a SPECIAL! Spirit of St Louis will play LIVE in the PARK and make you feet dance in the Sun! So better don’t miss this! \n\n\n\nProgramm:15.00-16.00H Classes tba.16.00- 19.00H Partytime w/ LIVE MUSIC by Spirit of St Louis \n\n\n\nWhere: Oosterpark\, at the Gazebo – in case of rain\, we will move the Party to Kompaszaal. \n\n\n\nCost: we appreciate donations for the LIVE BAND. \n\n\n\nTell your friends and bring a picnic blanket\, food\, water and sunscreen! \n\n\n\nFor questions contact us at +31653577930 or swingphilosophy@gmail.com
URL:https://swingphilosophy.com/agenda/oosterpark-hop-w-live-music-by-spirit-of-st-louis-outdoor-dance/
ATTACH;FMTTYPE=image/png:https://swingphilosophy.com/wp-content/uploads/2025/07/Oosterpark-Hop-3-1.png
END:VEVENT
END:VCALENDAR